BEGIN:VCALENDAR
VERSION:2.0
PRODID:-//Tukios.com/
BEGIN:VEVENT
UID:9b88f4a5-de46-4fa5-b7d9-04a4e24fba8f@www.hutchesonsmemorialchapel.com
DTSTAMP:20260419T213244Z
DTSTART:20260422T200000Z
DTEND:20260422T210000Z
SUMMARY:Visitation
DESCRIPTION:
URL:https://www.hutchesonsmemorialchapel.com/obituaries/mac-cole-jr
LOCATION: 43 Rockmart Road  Bremen GA 30110
GEO:33.818223;-85.0995316
END:VEVENT
END:VCALENDAR