BEGIN:VCALENDAR
VERSION:2.0
PRODID:-//Tukios.com/
BEGIN:VEVENT
UID:912a710a-c04f-4bb8-9dd7-29fb016d2f33@www.hutchesonsmemorialchapel.com
DTSTAMP:20260419T213726Z
DTSTART:20260422T210000Z
DTEND:20260422T220000Z
SUMMARY:Celebration of Life
DESCRIPTION:
URL:https://www.hutchesonsmemorialchapel.com/obituaries/mac-cole-jr
LOCATION: 43 Rockmart Road  Bremen GA 30110
GEO:33.818223;-85.0995316
END:VEVENT
END:VCALENDAR